BEGIN:VCALENDAR
VERSION:2.0
PRODID:-//Tatjana Frumen - ECPv5.8.1//NONSGML v1.0//EN
CALSCALE:GREGORIAN
METHOD:PUBLISH
X-WR-CALNAME:Tatjana Frumen
X-ORIGINAL-URL:https://tatjanafrumen.si
X-WR-CALDESC:Events for Tatjana Frumen
BEGIN:VTIMEZONE
TZID:UTC
BEGIN:STANDARD
TZOFFSETFROM:+0000
TZOFFSETTO:+0000
TZNAME:UTC
DTSTART:20260101T000000
END:STANDARD
END:VTIMEZONE
BEGIN:VEVENT
DTSTART;TZID=UTC:20260421T170000
DTEND;TZID=UTC:20260421T203000
DTSTAMP:20260420T105507
CREATED:20260323T174937Z
LAST-MODIFIED:20260406T111851Z
UID:6366-1776790800-1776803400@tatjanafrumen.si
SUMMARY:Kratka delavnica - Vadim Reiki!
DESCRIPTION:[vc_row][vc_column width=”2/3″] \nKratka delavnica – ” Vadimo Reiki  ali Reiki v praksi”\nVeliko ljudi opravi tečaj Reiki-ja\, da bi lahko pomagali sebi in drugim a se nekako zatakne pri prvih korakih. \nVčasih je doma premalo časa\, da bi poskusil-a pridobljeno znanje\, ali pa se ob vaji poraja kup dodatnih vprašanj. \nNekateri se celo prestrašijo svojih jasnovidnih\, jasnočutnih\, ali kakšnih drugih sposobnosti\, ker je to naenkrat prevelika sprememba.  Včasih pa samo čakamo na pravi trenutek. \nDelavnica je pripravljena tako\, da vadimo na praktičnih primerih in se posvetimo vprašanjem\, ki se ti pri delu porajajo. \nDelavnica je primerna za vse\, tudi za tiste\, ki še nikoli niso slišali za Reiki in si želijo zvedeti več ali se prepustiti terapiji s to prekrasno energijo ali tiste\, ki želijo utrditi znanje. \nZa vse dodatne informacije me lahko kontaktiraš na info@tatjanafrumen.si \nPrijavi na gumbku spodaj in v kolikor bo tvoja prijava uspešna\, prejmeš povratni mail ( samo v tvojo kontrolo). \nKer delavnico organiziram po daljšem premoru bo dogodek tokrat financiran s tvojim prostovoljnim prispevkom. [/vc_column][vc_column width=”1/3″]\nBi rad-a vadil-a Reiki na različnih primerih in doma nimaš časa? \nMogoče pa imaš več vprašanj kot odgovorov in bi se rad-a z nekom pogovoril-a? \nAli pa bi samo rad-a raziskoval-a? \nV vsakem primeru si dobrodošla-el\, samo poskrbi za pravočasno prijavo! [/vc_column][/vc_row][vc_row][vc_column] [/vc_column][/vc_row]\nRaziskuj v družbi podobno “čutečih” in se nam pridruži!\n[vc_row css=”.vc_custom_1495621603783{margin-top: 20px !important;}”][vc_column]PRIJAVA NA DOGODEK[/vc_column][/vc_row]
URL:https://tatjanafrumen.si/event/kratka-delavnica-vadim-reiki-3/
LOCATION:MESTNA ČETRT STUDENCI\, Šarhova ulica 53a\, Maribor\, 2000\, Slovenija
CATEGORIES:Delavnica
ORGANIZER;CN="Tatjana%20Frumen":MAILTO:info@tatjanafrumen.si
END:VEVENT
BEGIN:VEVENT
DTSTART;TZID=UTC:20260424T160000
DTEND;TZID=UTC:20260424T213000
DTSTAMP:20260420T105507
CREATED:20260406T114415Z
LAST-MODIFIED:20260414T060805Z
UID:6380-1777046400-1777066200@tatjanafrumen.si
SUMMARY:Kratka delavnica - Postavitev družine
DESCRIPTION:[vc_row][vc_column width=”2/3″] \nKratka delavnica “Postavitev družine”- odnos z avtoriteto\nKadar se je v družinskem deblu zgodilo nekaj\, kar je bilo preveč za posameznika se ta zapis prenese na vse družinske člane sistema. \nZapis\, izkušnja\, program iz odnosa lahko seže preko več generacij! \nTo se lahko kaže na najrazličnejše načine\, kot težava v odnosih – predvsem z avtoriteto\, bolezni\, pomanjkanju energije\, različnih drugih težavah…. \nPrej ali slej vsak zagrize v en tak grenak oreh\, ki ga težko sam razreši\, zato potrebuje drugačen pristop\, zrcalo\, podporo in orodje. \nRavnovesje in mir pride samo\, ko nevidno dobi prostor! \nTako enostavno je to slišati\, ni pa enostavno\, ker velikokrat ne veš\, kaj bi naj sprejel ali kaj pogledal\, kaj razrešil\, kaj vrnil\, saj velikokrat ni spomina\, temveč samo občutek in zapis v telesu. Opažaš lahko samo\, da se ti težava ponavlja\, ali da se vklaplja tvoj preživetveni odziv\, ne veš pa kaj s tem. \nKomu je delavnica namenjena? \nDelavnica je namenjena vsem polnoletnim osebam\, ki si želijo pogledati v svoj odnos z avotirteto\, premika naprej\, osebnostne rasti\, ali premagati kakšne svoje težave\, ki se ponavljajo in so pripravljene prevzeti odgovornost zase. \n Delavnica je pomoč ob tem kar že delaš.    \nNa delavnico se lahko prijaviš na povezavi spodaj \nVeč o delavnici in pravilih obnašanja lahko prebereš KLIKNI TUKAJ. \n[/vc_column][vc_column width=”1/3″]\nImaš izzive v življenju\, ki se ti ponavljajo? \nDelaš na sebi\, pa se še vedno uloviš\, da reagiraš drugače? \nSi že utrujen-a od vseh mogočih iskanj rešitve in ozadja tvoje težave? \nNa delavnici pogledava ozadje-i in se soočiva s tistim kar je skrito.  \nKo nevidno postane vidno in dobi prostor\, se lahko težava umakne in sprosti ujeto energijo\, ti pa dobiš vso podporo. \n [/vc_column][/vc_row][vc_row][vc_column] [/vc_column][/vc_row][vc_row][vc_column][vc_column_text]\n[/vc_column_text][/vc_column][/vc_row][vc_row css=”.vc_custom_1495621603783{margin-top: 20px !important;}”][vc_column]PRIJAVA NA DOGODEK[/vc_column][/vc_row]\nVeč informacij na gsm 041 444 573 ali info@tatjanafrumen.si\nMesto si zagotoviš s prijavo na oranžnem gumbku !
URL:https://tatjanafrumen.si/event/kratka-delavnica-postavitev-druzine-2/
LOCATION:Mestna četrt Studenci\, Erjavčeva ulčica 43\, Maribor\, 2000\, Slovenija
CATEGORIES:Delavnica
ORGANIZER;CN="Tatjana%20Frumen":MAILTO:info@tatjanafrumen.si
END:VEVENT
END:VCALENDAR